BEGIN:VCALENDAR
VERSION:2.0
PRODID:-//Bharatiya Samaj Charitable Trust - ECPv4.6.9//NONSGML v1.0//EN
CALSCALE:GREGORIAN
METHOD:PUBLISH
X-WR-CALNAME:Bharatiya Samaj Charitable Trust
X-ORIGINAL-URL:http://bsct.org.nz
X-WR-CALDESC:Events for Bharatiya Samaj Charitable Trust
BEGIN:VEVENT
DTSTART;TZID=UTC+0:20180108T080000
DTEND;TZID=UTC+0:20180112T170000
DTSTAMP:20180123T003523
CREATED:20171130T212040Z
LAST-MODIFIED:20171201T200455Z
UID:10501-1515398400-1515776400@bsct.org.nz
SUMMARY:Annual Summer Camp 2018
DESCRIPTION: \n
URL:http://bsct.org.nz/event/annual-summer-camp-2018/
LOCATION:13 May Road\, Mt. Roskill\, \, Auckland\, 1041\, New Zealand
ORGANIZER;CN="Jeet%20Suchdev":MAILTO:bhartiya@xtra.co.nz
END:VEVENT
BEGIN:VEVENT
DTSTART;VALUE=DATE:20180127
DTEND;VALUE=DATE:20180128
DTSTAMP:20180123T003523
CREATED:20180119T012436Z
LAST-MODIFIED:20180119T014115Z
UID:10557-1517011200-1517097599@bsct.org.nz
SUMMARY:Indian Republic Day Celebrations 2018
DESCRIPTION: \n
URL:http://bsct.org.nz/event/indian-republic-day-celebrations-2018/
ORGANIZER;CN="Jeet%20Suchdev":MAILTO:bhartiya@xtra.co.nz
END:VEVENT
END:VCALENDAR